BEGIN:VCALENDAR
VERSION:2.0
PRODID:-//St. Peter&#039;s Episcopal Church, Rosedale - ECPv5.14.0.4//NONSGML v1.0//EN
CALSCALE:GREGORIAN
METHOD:PUBLISH
X-WR-CALNAME:St. Peter&#039;s Episcopal Church, Rosedale
X-ORIGINAL-URL:https://stpetersrosedale.org
X-WR-CALDESC:Events for St. Peter&#039;s Episcopal Church, Rosedale
REFRESH-INTERVAL;VALUE=DURATION:PT1H
X-Robots-Tag:noindex
X-PUBLISHED-TTL:PT1H
BEGIN:VTIMEZONE
TZID:UTC
BEGIN:STANDARD
TZOFFSETFROM:+0000
TZOFFSETTO:+0000
TZNAME:UTC
DTSTART:20220101T000000
END:STANDARD
END:VTIMEZONE
BEGIN:VEVENT
DTSTART;VALUE=DATE:20220925
DTEND;VALUE=DATE:20220926
DTSTAMP:20260423T032640
CREATED:20211226T222728Z
LAST-MODIFIED:20211226T222821Z
UID:990745-1664064000-1664150399@stpetersrosedale.org
SUMMARY:YOUTH SUNDAY
DESCRIPTION:
URL:https://stpetersrosedale.org/events/youth-sunday-2/
CATEGORIES:Youth Group
END:VEVENT
END:VCALENDAR